BEGIN:VCALENDAR
VERSION:2.0
PRODID:-//The Anglican Church of St Thomas à Becket - ECPv5.16.4//NONSGML v1.0//EN
CALSCALE:GREGORIAN
METHOD:PUBLISH
X-WR-CALNAME:The Anglican Church of St Thomas à Becket
X-ORIGINAL-URL:https://anglican-church-hamburg.de
X-WR-CALDESC:Events for The Anglican Church of St Thomas à Becket
BEGIN:VTIMEZONE
TZID:Europe/Berlin
BEGIN:DAYLIGHT
TZOFFSETFROM:+0100
TZOFFSETTO:+0200
TZNAME:CEST
DTSTART:20260329T010000
END:DAYLIGHT
BEGIN:STANDARD
TZOFFSETFROM:+0200
TZOFFSETTO:+0100
TZNAME:CET
DTSTART:20261025T010000
END:STANDARD
END:VTIMEZONE
BEGIN:VEVENT
DTSTART;TZID=Europe/Berlin:20260426T103000
DTEND;TZID=Europe/Berlin:20260426T113000
DTSTAMP:20260424T233851
CREATED:20260126T110241Z
LAST-MODIFIED:20260126T110241Z
UID:7718-1777199400-1777203000@anglican-church-hamburg.de
SUMMARY:Fourth Sunday of Easter
DESCRIPTION:
URL:https://anglican-church-hamburg.de/event/fourth-sunday-of-easter/
LOCATION:Anglican Church of St Thomas à Becket\, Zeughausmarkt 22\, Hamburg\, 20459\, Germany
CATEGORIES:Service
END:VEVENT
BEGIN:VEVENT
DTSTART;TZID=Europe/Berlin:20260426T153000
DTEND;TZID=Europe/Berlin:20260426T163000
DTSTAMP:20260424T233851
CREATED:20260126T110357Z
LAST-MODIFIED:20260126T110357Z
UID:7720-1777217400-1777221000@anglican-church-hamburg.de
SUMMARY:Choral Evensong
DESCRIPTION:
URL:https://anglican-church-hamburg.de/event/choral-evensong-34/
CATEGORIES:Service
END:VEVENT
END:VCALENDAR