BEGIN:VCALENDAR
VERSION:2.0
PRODID:-//The Anglican Church of St Thomas à Becket - ECPv5.16.4//NONSGML v1.0//EN
CALSCALE:GREGORIAN
METHOD:PUBLISH
X-WR-CALNAME:The Anglican Church of St Thomas à Becket
X-ORIGINAL-URL:https://anglican-church-hamburg.de
X-WR-CALDESC:Events for The Anglican Church of St Thomas à Becket
BEGIN:VTIMEZONE
TZID:UTC
BEGIN:STANDARD
TZOFFSETFROM:+0000
TZOFFSETTO:+0000
TZNAME:UTC
DTSTART:20170101T000000
END:STANDARD
END:VTIMEZONE
BEGIN:VEVENT
DTSTART;TZID=UTC:20170122T140000
DTEND;TZID=UTC:20170122T190000
DTSTAMP:20260424T055350
CREATED:20170112T101747Z
LAST-MODIFIED:20170112T101747Z
UID:3389-1485093600-1485111600@anglican-church-hamburg.de
SUMMARY:Weltmusik Chor - Workshop and Concert
DESCRIPTION:Weltmusik Chor Hamburg\ndirected by Nathaniel Damon \n14.00-16.00 – Workshop\n17.00 – Concert \nhttps://weltmusik-chor-hamburg.jimdo.com/
URL:https://anglican-church-hamburg.de/event/weltmusik-chor-workshop-and-concert/
LOCATION:Anglican Church of St Thomas à Becket\, Zeughausmarkt 22\, Hamburg\, 20459\, Germany
END:VEVENT
END:VCALENDAR