BEGIN:VCALENDAR
VERSION:2.0
PRODID:-//The Anglican Church of St Thomas à Becket - ECPv5.16.4//NONSGML v1.0//EN
CALSCALE:GREGORIAN
METHOD:PUBLISH
X-WR-CALNAME:The Anglican Church of St Thomas à Becket
X-ORIGINAL-URL:https://anglican-church-hamburg.de
X-WR-CALDESC:Events for The Anglican Church of St Thomas à Becket
BEGIN:VTIMEZONE
TZID:UTC
BEGIN:STANDARD
TZOFFSETFROM:+0000
TZOFFSETTO:+0000
TZNAME:UTC
DTSTART:20160101T000000
END:STANDARD
END:VTIMEZONE
BEGIN:VEVENT
DTSTART;TZID=UTC:20161210T180000
DTEND;TZID=UTC:20161210T192000
DTSTAMP:20260423T175404
CREATED:20160909T133529Z
LAST-MODIFIED:20161201T074435Z
UID:3247-1481392800-1481397600@anglican-church-hamburg.de
SUMMARY:Service of Nine Lessons and Carols
DESCRIPTION:Let’s celebrate and sing together\, waiting and hoping for the light to come with carols old and new. All welcome. \nCelebrant: Revd Canon Dr Leslie Nathaniel\nAnglican Choir directed by Yotin Tiewtrakul\nOrgan: Jochim Trede\nFlute: Karen Bergquist Lueth\nTrumpet: Hartmut Kruschwitz
URL:https://anglican-church-hamburg.de/event/service-of-nine-lessons-and-carols/
CATEGORIES:Service
END:VEVENT
END:VCALENDAR