BEGIN:VCALENDAR
VERSION:2.0
PRODID:-//The Anglican Church of St Thomas à Becket - ECPv5.16.4//NONSGML v1.0//EN
CALSCALE:GREGORIAN
METHOD:PUBLISH
X-WR-CALNAME:The Anglican Church of St Thomas à Becket
X-ORIGINAL-URL:https://anglican-church-hamburg.de
X-WR-CALDESC:Events for The Anglican Church of St Thomas à Becket
BEGIN:VTIMEZONE
TZID:UTC
BEGIN:STANDARD
TZOFFSETFROM:+0000
TZOFFSETTO:+0000
TZNAME:UTC
DTSTART:20150101T000000
END:STANDARD
END:VTIMEZONE
BEGIN:VEVENT
DTSTART;TZID=UTC:20151206T103000
DTEND;TZID=UTC:20151206T120000
DTSTAMP:20260422T042043
CREATED:20151011T044828Z
LAST-MODIFIED:20151113T092818Z
UID:1407-1449397800-1449403200@anglican-church-hamburg.de
SUMMARY:Second Sunday in Advent - Holy Communion
DESCRIPTION:Our Archdeacon Colin Williams is with us and will be preaching this morning.
URL:https://anglican-church-hamburg.de/event/second-sunday-in-advent-holy-communion/
CATEGORIES:Service
END:VEVENT
END:VCALENDAR