BEGIN:VCALENDAR
VERSION:2.0
PRODID:-//The Anglican Church of St Thomas à Becket - ECPv5.16.4//NONSGML v1.0//EN
CALSCALE:GREGORIAN
METHOD:PUBLISH
X-WR-CALNAME:The Anglican Church of St Thomas à Becket
X-ORIGINAL-URL:https://anglican-church-hamburg.de
X-WR-CALDESC:Events for The Anglican Church of St Thomas à Becket
BEGIN:VTIMEZONE
TZID:UTC
BEGIN:STANDARD
TZOFFSETFROM:+0000
TZOFFSETTO:+0000
TZNAME:UTC
DTSTART:20150101T000000
END:STANDARD
END:VTIMEZONE
BEGIN:VEVENT
DTSTART;TZID=UTC:20151210T190000
DTEND;TZID=UTC:20151210T211000
DTSTAMP:20260422T011039
CREATED:20151023T155249Z
LAST-MODIFIED:20151120T123522Z
UID:2799-1449774000-1449781800@anglican-church-hamburg.de
SUMMARY:Rehearsal for Nine Lessons and Carols
DESCRIPTION:This is the last rehearsal before the Carol Service.
URL:https://anglican-church-hamburg.de/event/rehearsal-for-nine-lessons-and-carols-6/
LOCATION:Anglican Church of St Thomas à Becket\, Zeughausmarkt 22\, Hamburg\, 20459\, Germany
CATEGORIES:Other
END:VEVENT
END:VCALENDAR