BEGIN:VCALENDAR
VERSION:2.0
PRODID:-//The Anglican Church of St Thomas à Becket - ECPv5.16.4//NONSGML v1.0//EN
CALSCALE:GREGORIAN
METHOD:PUBLISH
X-WR-CALNAME:The Anglican Church of St Thomas à Becket
X-ORIGINAL-URL:https://anglican-church-hamburg.de
X-WR-CALDESC:Events for The Anglican Church of St Thomas à Becket
BEGIN:VTIMEZONE
TZID:UTC
BEGIN:STANDARD
TZOFFSETFROM:+0000
TZOFFSETTO:+0000
TZNAME:UTC
DTSTART:20170101T000000
END:STANDARD
END:VTIMEZONE
BEGIN:VEVENT
DTSTART;TZID=UTC:20170129T103000
DTEND;TZID=UTC:20170129T120000
DTSTAMP:20260424T083426
CREATED:20160909T134957Z
LAST-MODIFIED:20160909T134957Z
UID:3256-1485685800-1485691200@anglican-church-hamburg.de
SUMMARY:Presentation of Christ in the Temple (Candlemas) - Holy Communion
DESCRIPTION:
URL:https://anglican-church-hamburg.de/event/presentation-of-christ-in-the-temple-candlemas-holy-communion/
LOCATION:Anglican Church of St Thomas à Becket\, Zeughausmarkt 22\, Hamburg\, 20459\, Germany
CATEGORIES:Service
END:VEVENT
END:VCALENDAR