BEGIN:VCALENDAR
VERSION:2.0
PRODID:-//The Anglican Church of St Thomas à Becket - ECPv5.16.4//NONSGML v1.0//EN
CALSCALE:GREGORIAN
METHOD:PUBLISH
X-WR-CALNAME:The Anglican Church of St Thomas à Becket
X-ORIGINAL-URL:https://anglican-church-hamburg.de
X-WR-CALDESC:Events for The Anglican Church of St Thomas à Becket
BEGIN:VTIMEZONE
TZID:UTC
BEGIN:STANDARD
TZOFFSETFROM:+0000
TZOFFSETTO:+0000
TZNAME:UTC
DTSTART:20170101T000000
END:STANDARD
END:VTIMEZONE
BEGIN:VEVENT
DTSTART;TZID=UTC:20170218T183000
DTEND;TZID=UTC:20170218T190000
DTSTAMP:20260424T121714
CREATED:20170120T153526Z
LAST-MODIFIED:20170211T102858Z
UID:3399-1487442600-1487444400@anglican-church-hamburg.de
SUMMARY:CANCELLED! Piano Recital with Roger Cui: Bach\, Beethoven\, Busoni
DESCRIPTION:Unfortunately the piano recital with Roger Cui will be postponed to a later date.
URL:https://anglican-church-hamburg.de/event/piano-recital-with-roger-cui-bach-beethoven-busoni/
LOCATION:Anglican Church of St Thomas à Becket\, Zeughausmarkt 22\, Hamburg\, 20459\, Germany
CATEGORIES:Other
END:VEVENT
END:VCALENDAR