BEGIN:VCALENDAR
VERSION:2.0
PRODID:-//The Anglican Church of St Thomas à Becket - ECPv5.16.4//NONSGML v1.0//EN
CALSCALE:GREGORIAN
METHOD:PUBLISH
X-WR-CALNAME:The Anglican Church of St Thomas à Becket
X-ORIGINAL-URL:https://anglican-church-hamburg.de
X-WR-CALDESC:Events for The Anglican Church of St Thomas à Becket
BEGIN:VTIMEZONE
TZID:UTC
BEGIN:STANDARD
TZOFFSETFROM:+0000
TZOFFSETTO:+0000
TZNAME:UTC
DTSTART:20150101T000000
END:STANDARD
END:VTIMEZONE
BEGIN:VEVENT
DTSTART;TZID=UTC:20151212T180000
DTEND;TZID=UTC:20151212T193000
DTSTAMP:20260421T234146
CREATED:20150807T141513Z
LAST-MODIFIED:20151113T092824Z
UID:1218-1449943200-1449948600@anglican-church-hamburg.de
SUMMARY:Nine Lessons and Carols
DESCRIPTION:Anticipating Christ’s coming into this world in readings\, hymns and carols. \n— \nFr Clifford Poole\, Chaplain\nJochim Trede\, Organ\nHartmut Kruschwitz\, Trumpet\nAnglican Choir and Friends\ndirected by Yotin Tiewtrakul
URL:https://anglican-church-hamburg.de/event/nine-lessons-and-carols/
LOCATION:Anglican Church of St Thomas à Becket\, Zeughausmarkt 22\, Hamburg\, 20459\, Germany
CATEGORIES:Other,Service
END:VEVENT
END:VCALENDAR