BEGIN:VCALENDAR
VERSION:2.0
PRODID:-//The Anglican Church of St Thomas à Becket - ECPv5.16.4//NONSGML v1.0//EN
CALSCALE:GREGORIAN
METHOD:PUBLISH
X-WR-CALNAME:The Anglican Church of St Thomas à Becket
X-ORIGINAL-URL:https://anglican-church-hamburg.de
X-WR-CALDESC:Events for The Anglican Church of St Thomas à Becket
BEGIN:VTIMEZONE
TZID:UTC
BEGIN:STANDARD
TZOFFSETFROM:+0000
TZOFFSETTO:+0000
TZNAME:UTC
DTSTART:20170101T000000
END:STANDARD
END:VTIMEZONE
BEGIN:VEVENT
DTSTART;TZID=UTC:20170326T103000
DTEND;TZID=UTC:20170326T120000
DTSTAMP:20260425T000015
CREATED:20170130T151535Z
LAST-MODIFIED:20170130T151535Z
UID:3421-1490524200-1490529600@anglican-church-hamburg.de
SUMMARY:Mothering Sunday - Family Service with Holy Communion
DESCRIPTION:
URL:https://anglican-church-hamburg.de/event/mothering-sunday-family-service-with-holy-communion/
LOCATION:Anglican Church of St Thomas à Becket\, Zeughausmarkt 22\, Hamburg\, 20459\, Germany
CATEGORIES:Service
END:VEVENT
END:VCALENDAR