BEGIN:VCALENDAR
VERSION:2.0
PRODID:-//The Anglican Church of St Thomas à Becket - ECPv5.16.4//NONSGML v1.0//EN
CALSCALE:GREGORIAN
METHOD:PUBLISH
X-WR-CALNAME:The Anglican Church of St Thomas à Becket
X-ORIGINAL-URL:https://anglican-church-hamburg.de
X-WR-CALDESC:Events for The Anglican Church of St Thomas à Becket
BEGIN:VTIMEZONE
TZID:Europe/Berlin
BEGIN:DAYLIGHT
TZOFFSETFROM:+0100
TZOFFSETTO:+0200
TZNAME:CEST
DTSTART:20210328T010000
END:DAYLIGHT
BEGIN:STANDARD
TZOFFSETFROM:+0200
TZOFFSETTO:+0100
TZNAME:CET
DTSTART:20211031T010000
END:STANDARD
END:VTIMEZONE
BEGIN:VEVENT
DTSTART;TZID=Europe/Berlin:20210708T120000
DTEND;TZID=Europe/Berlin:20210708T123000
DTSTAMP:20260423T225347
CREATED:20210706T135707Z
LAST-MODIFIED:20210706T135707Z
UID:5901-1625745600-1625747400@anglican-church-hamburg.de
SUMMARY:Mid-week Service
DESCRIPTION:Holy Communion (BCP)\nSaid service\, lasting 30 mins
URL:https://anglican-church-hamburg.de/event/mid-week-service/
LOCATION:Anglican Church of St Thomas à Becket\, Zeughausmarkt 22\, Hamburg\, 20459\, Germany
CATEGORIES:Service
END:VEVENT
END:VCALENDAR