BEGIN:VCALENDAR
VERSION:2.0
PRODID:-//The Anglican Church of St Thomas à Becket - ECPv5.16.4//NONSGML v1.0//EN
CALSCALE:GREGORIAN
METHOD:PUBLISH
X-WR-CALNAME:The Anglican Church of St Thomas à Becket
X-ORIGINAL-URL:https://anglican-church-hamburg.de
X-WR-CALDESC:Events for The Anglican Church of St Thomas à Becket
BEGIN:VTIMEZONE
TZID:UTC
BEGIN:STANDARD
TZOFFSETFROM:+0000
TZOFFSETTO:+0000
TZNAME:UTC
DTSTART:20170101T000000
END:STANDARD
END:VTIMEZONE
BEGIN:VEVENT
DTSTART;TZID=UTC:20170308T190000
DTEND;TZID=UTC:20170308T193000
DTSTAMP:20260424T202235
CREATED:20170130T142534Z
LAST-MODIFIED:20170206T154521Z
UID:3412-1488999600-1489001400@anglican-church-hamburg.de
SUMMARY:Holden Evening Prayer
DESCRIPTION:Just as Choral Evensongs are celebrated with treasures of English choral music in big Anglican cathedrals there is a contemporary music setting of an evening liturgy by the American composer Marty Haugen – just for the congregation with piano accompaniment. It is called “Holden Evening Prayer” since Marty Haugen composed it while living and working at Holden Village\, an ecumenical retreat centre in the Lutheran tradition. \nHere is a video with the music of the Holden Evening Service at St. Olaf College: Link \nHere’s a flyer with all the three dates in the first half of 2017.
URL:https://anglican-church-hamburg.de/event/holden-evening-prayer-3/
LOCATION:Anglican Church of St Thomas à Becket\, Zeughausmarkt 22\, Hamburg\, 20459\, Germany
CATEGORIES:Service
END:VEVENT
END:VCALENDAR