BEGIN:VCALENDAR
VERSION:2.0
PRODID:-//The Anglican Church of St Thomas à Becket - ECPv5.16.4//NONSGML v1.0//EN
CALSCALE:GREGORIAN
METHOD:PUBLISH
X-WR-CALNAME:The Anglican Church of St Thomas à Becket
X-ORIGINAL-URL:https://anglican-church-hamburg.de
X-WR-CALDESC:Events for The Anglican Church of St Thomas à Becket
BEGIN:VTIMEZONE
TZID:UTC
BEGIN:STANDARD
TZOFFSETFROM:+0000
TZOFFSETTO:+0000
TZNAME:UTC
DTSTART:20150101T000000
END:STANDARD
END:VTIMEZONE
BEGIN:VEVENT
DTSTART;TZID=UTC:20151224T160000
DTEND;TZID=UTC:20151224T170000
DTSTAMP:20260421T161548
CREATED:20151011T045315Z
LAST-MODIFIED:20160909T133857Z
UID:1411-1450972800-1450976400@anglican-church-hamburg.de
SUMMARY:Christmas Eve Service with Christingle
DESCRIPTION:More on the meaning of the Christingle here on the website of the Children’s Society.
URL:https://anglican-church-hamburg.de/event/christmas-eve-service/
LOCATION:Anglican Church of St Thomas à Becket\, Zeughausmarkt 22\, Hamburg\, 20459\, Germany
CATEGORIES:Service
END:VEVENT
END:VCALENDAR