BEGIN:VCALENDAR
VERSION:2.0
PRODID:-//The Anglican Church of St Thomas à Becket - ECPv5.16.4//NONSGML v1.0//EN
CALSCALE:GREGORIAN
METHOD:PUBLISH
X-WR-CALNAME:The Anglican Church of St Thomas à Becket
X-ORIGINAL-URL:https://anglican-church-hamburg.de
X-WR-CALDESC:Events for The Anglican Church of St Thomas à Becket
BEGIN:VTIMEZONE
TZID:UTC
BEGIN:STANDARD
TZOFFSETFROM:+0000
TZOFFSETTO:+0000
TZNAME:UTC
DTSTART:20170101T000000
END:STANDARD
END:VTIMEZONE
BEGIN:VEVENT
DTSTART;TZID=UTC:20170127T180000
DTEND;TZID=UTC:20170127T185000
DTSTAMP:20260424T070457
CREATED:20170110T061839Z
LAST-MODIFIED:20170113T152036Z
UID:3376-1485540000-1485543000@anglican-church-hamburg.de
SUMMARY:Choral Evensong | Candlemas
DESCRIPTION:Hear the voice and prayer (Thomas Tallis)\nMagnificat & Nunc dimittis (Orlando Gibbons)\nLord\, now lettest thou (Felix Mendelssohn) \nCelebrant: Revd Canon Dr Leslie Nathaniel\nAnglican Consort directed by Yotin Tiewtrakul\nJochim Trede\, organ
URL:https://anglican-church-hamburg.de/event/choral-evensong-candlemas/
LOCATION:Anglican Church of St Thomas à Becket\, Zeughausmarkt 22\, Hamburg\, 20459\, Germany
CATEGORIES:Service
END:VEVENT
END:VCALENDAR