BEGIN:VCALENDAR
VERSION:2.0
PRODID:-//The Anglican Church of St Thomas à Becket - ECPv5.16.4//NONSGML v1.0//EN
CALSCALE:GREGORIAN
METHOD:PUBLISH
X-WR-CALNAME:The Anglican Church of St Thomas à Becket
X-ORIGINAL-URL:https://anglican-church-hamburg.de
X-WR-CALDESC:Events for The Anglican Church of St Thomas à Becket
BEGIN:VTIMEZONE
TZID:UTC
BEGIN:STANDARD
TZOFFSETFROM:+0000
TZOFFSETTO:+0000
TZNAME:UTC
DTSTART:20170101T000000
END:STANDARD
END:VTIMEZONE
BEGIN:VEVENT
DTSTART;TZID=UTC:20170224T180000
DTEND;TZID=UTC:20170224T185000
DTSTAMP:20260424T143941
CREATED:20170110T062238Z
LAST-MODIFIED:20170113T152121Z
UID:3377-1487959200-1487962200@anglican-church-hamburg.de
SUMMARY:Choral Evensong | before Lent
DESCRIPTION:Hail gladdening light (John Stainer)\nMagnificat & Nunc dimittis (George Dyson)\nSong of Mary (Richard Shephard) \nCelebrant: Revd Canon Dr Leslie Nathaniel\nAnglican Choir directed by Yotin Tiewtrakul\nJochim Trede\, organ
URL:https://anglican-church-hamburg.de/event/choral-evensong-before-lent/
LOCATION:Anglican Church of St Thomas à Becket\, Zeughausmarkt 22\, Hamburg\, 20459\, Germany
CATEGORIES:Service
END:VEVENT
END:VCALENDAR