BEGIN:VCALENDAR
VERSION:2.0
PRODID:-//The Anglican Church of St Thomas à Becket - ECPv5.16.4//NONSGML v1.0//EN
CALSCALE:GREGORIAN
METHOD:PUBLISH
X-WR-CALNAME:The Anglican Church of St Thomas à Becket
X-ORIGINAL-URL:https://anglican-church-hamburg.de
X-WR-CALDESC:Events for The Anglican Church of St Thomas à Becket
BEGIN:VTIMEZONE
TZID:UTC
BEGIN:STANDARD
TZOFFSETFROM:+0000
TZOFFSETTO:+0000
TZNAME:UTC
DTSTART:20170101T000000
END:STANDARD
END:VTIMEZONE
BEGIN:VEVENT
DTSTART;TZID=UTC:20170331T180000
DTEND;TZID=UTC:20170331T185000
DTSTAMP:20260425T023313
CREATED:20170110T062412Z
LAST-MODIFIED:20170208T085150Z
UID:3378-1490983200-1490986200@anglican-church-hamburg.de
SUMMARY:Choral Evensong | all music by Thomas Tallis
DESCRIPTION:O Lord\, in thee is all my trust\nMagnificat & Nunc dimittis from the Dorian Service\nRemember not\, O Lord God \nCelebrant: Revd Canon Dr Leslie Nathaniel\nAnglican Consort directed by Yotin Tiewtrakul\nIsabella Recorder Consort directed by Nina Riegler
URL:https://anglican-church-hamburg.de/event/choral-evensong-all-music-by-thomas-tallis/
LOCATION:Anglican Church of St Thomas à Becket\, Zeughausmarkt 22\, Hamburg\, 20459\, Germany
CATEGORIES:Service
END:VEVENT
END:VCALENDAR