BEGIN:VCALENDAR
VERSION:2.0
PRODID:-//The Anglican Church of St Thomas à Becket - ECPv5.16.4//NONSGML v1.0//EN
CALSCALE:GREGORIAN
METHOD:PUBLISH
X-WR-CALNAME:The Anglican Church of St Thomas à Becket
X-ORIGINAL-URL:https://anglican-church-hamburg.de
X-WR-CALDESC:Events for The Anglican Church of St Thomas à Becket
BEGIN:VTIMEZONE
TZID:Europe/Berlin
BEGIN:DAYLIGHT
TZOFFSETFROM:+0100
TZOFFSETTO:+0200
TZNAME:CEST
DTSTART:20210328T010000
END:DAYLIGHT
BEGIN:STANDARD
TZOFFSETFROM:+0200
TZOFFSETTO:+0100
TZNAME:CET
DTSTART:20211031T010000
END:STANDARD
END:VTIMEZONE
BEGIN:VEVENT
DTSTART;TZID=Europe/Berlin:20211120T110000
DTEND;TZID=Europe/Berlin:20211120T170000
DTSTAMP:20260425T213216
CREATED:20210706T134349Z
LAST-MODIFIED:20210706T134349Z
UID:5897-1637406000-1637427600@anglican-church-hamburg.de
SUMMARY:Annual Church Bazaar at St Thomas à Becket
DESCRIPTION:All proceeds in aid of the historic building and church activities. \nBooks and CD’s\, Raffle\, Handicrafts with Bric-a-Brac\, Christmas cards\, Gallery Café\, African and Indian food\, British produce and more…
URL:https://anglican-church-hamburg.de/event/annual-church-bazaar-at-st-thomas-a-becket/
LOCATION:Anglican Church of St Thomas à Becket\, Zeughausmarkt 22\, Hamburg\, 20459\, Germany
ATTACH;FMTTYPE=image/gif:https://anglican-church-hamburg.de/wp-content/uploads/2021/07/bazaarimage.gif
END:VEVENT
END:VCALENDAR