BEGIN:VCALENDAR
VERSION:2.0
PRODID:-//The Anglican Church of St Thomas à Becket - ECPv5.16.4//NONSGML v1.0//EN
CALSCALE:GREGORIAN
METHOD:PUBLISH
X-WR-CALNAME:The Anglican Church of St Thomas à Becket
X-ORIGINAL-URL:https://anglican-church-hamburg.de
X-WR-CALDESC:Events for The Anglican Church of St Thomas à Becket
BEGIN:VTIMEZONE
TZID:UTC
BEGIN:STANDARD
TZOFFSETFROM:+0000
TZOFFSETTO:+0000
TZNAME:UTC
DTSTART:20150101T000000
END:STANDARD
END:VTIMEZONE
BEGIN:VEVENT
DTSTART;TZID=UTC:20151215T190000
DTEND;TZID=UTC:20151215T210000
DTSTAMP:20260421T220950
CREATED:20151022T094638Z
LAST-MODIFIED:20151022T094638Z
UID:2787-1450206000-1450213200@anglican-church-hamburg.de
SUMMARY:Advent Study Group
DESCRIPTION:The Advent Study Groups runs every Tuesday 7-9pm at the Chaplain’s flat in Englische Planke 1 (next to the “Michel”). The last meeting is on Tuesday 15 December.
URL:https://anglican-church-hamburg.de/event/advent-study-group-7/
END:VEVENT
END:VCALENDAR