BEGIN:VCALENDAR
VERSION:2.0
PRODID:-//The Anglican Church of St Thomas à Becket - ECPv5.16.4//NONSGML v1.0//EN
CALSCALE:GREGORIAN
METHOD:PUBLISH
X-WR-CALNAME:The Anglican Church of St Thomas à Becket
X-ORIGINAL-URL:https://anglican-church-hamburg.de
X-WR-CALDESC:Events for The Anglican Church of St Thomas à Becket
BEGIN:VTIMEZONE
TZID:UTC
BEGIN:STANDARD
TZOFFSETFROM:+0000
TZOFFSETTO:+0000
TZNAME:UTC
DTSTART:20160101T000000
END:STANDARD
END:VTIMEZONE
BEGIN:VEVENT
DTSTART;TZID=UTC:20161218T103000
DTEND;TZID=UTC:20161218T120000
DTSTAMP:20260423T203750
CREATED:20160909T133718Z
LAST-MODIFIED:20161216T095127Z
UID:3249-1482057000-1482062400@anglican-church-hamburg.de
SUMMARY:4th Sunday of Advent - Holy Communion
DESCRIPTION:The Junior Church is doing a nativity play in this service. Come and support our kids!
URL:https://anglican-church-hamburg.de/event/4th-sunday-of-advent-holy-communion/
LOCATION:Anglican Church of St Thomas à Becket\, Zeughausmarkt 22\, Hamburg\, 20459\, Germany
CATEGORIES:Service
END:VEVENT
END:VCALENDAR